BEGIN:VCALENDAR
VERSION:2.0
PRODID:-//Ohio Shorthorn Breeders Association - ECPv6.15.17//NONSGML v1.0//EN
CALSCALE:GREGORIAN
METHOD:PUBLISH
X-ORIGINAL-URL:https://ohioshorthorns.org
X-WR-CALDESC:Events for Ohio Shorthorn Breeders Association
REFRESH-INTERVAL;VALUE=DURATION:PT1H
X-Robots-Tag:noindex
X-PUBLISHED-TTL:PT1H
BEGIN:VTIMEZONE
TZID:America/New_York
BEGIN:DAYLIGHT
TZOFFSETFROM:-0500
TZOFFSETTO:-0400
TZNAME:EDT
DTSTART:20250309T070000
END:DAYLIGHT
BEGIN:STANDARD
TZOFFSETFROM:-0400
TZOFFSETTO:-0500
TZNAME:EST
DTSTART:20251102T060000
END:STANDARD
BEGIN:DAYLIGHT
TZOFFSETFROM:-0500
TZOFFSETTO:-0400
TZNAME:EDT
DTSTART:20260308T070000
END:DAYLIGHT
BEGIN:STANDARD
TZOFFSETFROM:-0400
TZOFFSETTO:-0500
TZNAME:EST
DTSTART:20261101T060000
END:STANDARD
BEGIN:DAYLIGHT
TZOFFSETFROM:-0500
TZOFFSETTO:-0400
TZNAME:EDT
DTSTART:20270314T070000
END:DAYLIGHT
BEGIN:STANDARD
TZOFFSETFROM:-0400
TZOFFSETTO:-0500
TZNAME:EST
DTSTART:20271107T060000
END:STANDARD
END:VTIMEZONE
BEGIN:VEVENT
DTSTART;VALUE=DATE:20260515
DTEND;VALUE=DATE:20260518
DTSTAMP:20260421T103706
CREATED:20260307T165232Z
LAST-MODIFIED:20260307T165232Z
UID:641-1778803200-1779062399@ohioshorthorns.org
SUMMARY:The Ohio Preview Show
DESCRIPTION:
URL:https://ohioshorthorns.org/event/the-ohio-preview-show/
LOCATION:Fayette County Fairgrounds\, Washingon C.H.\, OH\, United States
CATEGORIES:Junior Event,Show
ATTACH;FMTTYPE=image/jpeg:https://ohioshorthorns.org/wp-content/uploads/2026/03/PreviewShow.jpg
END:VEVENT
BEGIN:VEVENT
DTSTART;VALUE=DATE:20260620
DTEND;VALUE=DATE:20260628
DTSTAMP:20260421T103706
CREATED:20250427T121743Z
LAST-MODIFIED:20260307T164513Z
UID:73-1781913600-1782604799@ohioshorthorns.org
SUMMARY:Junior Nationals
DESCRIPTION:
URL:https://ohioshorthorns.org/event/junior-nationals/
LOCATION:Abilene\, TX\, Abilene\, TX\, United States
CATEGORIES:Junior Event,Show
ATTACH;FMTTYPE=image/png:https://ohioshorthorns.org/wp-content/uploads/2025/04/Trailblazers.png
END:VEVENT
END:VCALENDAR