BEGIN:VCALENDAR
VERSION:2.0
PRODID:-//Ohio Shorthorn Breeders Association - ECPv6.15.17//NONSGML v1.0//EN
CALSCALE:GREGORIAN
METHOD:PUBLISH
X-WR-CALNAME:Ohio Shorthorn Breeders Association
X-ORIGINAL-URL:https://ohioshorthorns.org
X-WR-CALDESC:Events for Ohio Shorthorn Breeders Association
REFRESH-INTERVAL;VALUE=DURATION:PT1H
X-Robots-Tag:noindex
X-PUBLISHED-TTL:PT1H
BEGIN:VTIMEZONE
TZID:America/New_York
BEGIN:DAYLIGHT
TZOFFSETFROM:-0500
TZOFFSETTO:-0400
TZNAME:EDT
DTSTART:20240310T070000
END:DAYLIGHT
BEGIN:STANDARD
TZOFFSETFROM:-0400
TZOFFSETTO:-0500
TZNAME:EST
DTSTART:20241103T060000
END:STANDARD
BEGIN:DAYLIGHT
TZOFFSETFROM:-0500
TZOFFSETTO:-0400
TZNAME:EDT
DTSTART:20250309T070000
END:DAYLIGHT
BEGIN:STANDARD
TZOFFSETFROM:-0400
TZOFFSETTO:-0500
TZNAME:EST
DTSTART:20251102T060000
END:STANDARD
BEGIN:DAYLIGHT
TZOFFSETFROM:-0500
TZOFFSETTO:-0400
TZNAME:EDT
DTSTART:20260308T070000
END:DAYLIGHT
BEGIN:STANDARD
TZOFFSETFROM:-0400
TZOFFSETTO:-0500
TZNAME:EST
DTSTART:20261101T060000
END:STANDARD
END:VTIMEZONE
BEGIN:VEVENT
DTSTART;TZID=America/New_York:20251116T190000
DTEND;TZID=America/New_York:20251116T210000
DTSTAMP:20260421T003028
CREATED:20251027T225957Z
LAST-MODIFIED:20251027T225957Z
UID:501-1763319600-1763326800@ohioshorthorns.org
SUMMARY:"Where Future Generations are Created" Sale
DESCRIPTION:Online bidding available
URL:https://ohioshorthorns.org/event/where-future-generations-are-created-sale/
LOCATION:Hilton Garden Inn\, 2735 Crittenden Drive\, Louisville\, KY\, United States
CATEGORIES:Sale
ATTACH;FMTTYPE=image/jpeg:https://ohioshorthorns.org/wp-content/uploads/2025/10/WhereFutureGenerations.jpg
ORGANIZER;CN="Greenhorn Cattle Company":MAILTO:josh.greenhorn1@yahoo.com
END:VEVENT
BEGIN:VEVENT
DTSTART;VALUE=DATE:20251114
DTEND;VALUE=DATE:20251119
DTSTAMP:20260421T003028
CREATED:20251027T182358Z
LAST-MODIFIED:20251027T182724Z
UID:494-1763078400-1763510399@ohioshorthorns.org
SUMMARY:North American International Livestock Exposition (NAILE)
DESCRIPTION:NAILE Shorthorn Schedule:\n\nCheck In: Nov. 14\nJunior ShorthornPlus Show: Nov. 15 following Simmental\nJunior Shorthorn Show: Nov. 16 at 8 a.m.\nOpen Shorthorn & ShorthornPlus Show: Nov. 18 at 8 a.m.
URL:https://ohioshorthorns.org/event/north-american-international-livestock-exposition-naile/
LOCATION:Kentucky Exposition Center\, 937 Phillips Lane\, Louisville\, KY\, 40209\, United States
CATEGORIES:Junior Event,Show
ATTACH;FMTTYPE=image/jpeg:https://ohioshorthorns.org/wp-content/uploads/2025/10/NAILE16-9ratio.jpg
END:VEVENT
END:VCALENDAR