BEGIN:VCALENDAR
VERSION:2.0
PRODID:-//Ohio Shorthorn Breeders Association - ECPv6.15.17//NONSGML v1.0//EN
CALSCALE:GREGORIAN
METHOD:PUBLISH
X-ORIGINAL-URL:https://ohioshorthorns.org
X-WR-CALDESC:Events for Ohio Shorthorn Breeders Association
REFRESH-INTERVAL;VALUE=DURATION:PT1H
X-Robots-Tag:noindex
X-PUBLISHED-TTL:PT1H
BEGIN:VTIMEZONE
TZID:America/New_York
BEGIN:DAYLIGHT
TZOFFSETFROM:-0500
TZOFFSETTO:-0400
TZNAME:EDT
DTSTART:20250309T070000
END:DAYLIGHT
BEGIN:STANDARD
TZOFFSETFROM:-0400
TZOFFSETTO:-0500
TZNAME:EST
DTSTART:20251102T060000
END:STANDARD
BEGIN:DAYLIGHT
TZOFFSETFROM:-0500
TZOFFSETTO:-0400
TZNAME:EDT
DTSTART:20260308T070000
END:DAYLIGHT
BEGIN:STANDARD
TZOFFSETFROM:-0400
TZOFFSETTO:-0500
TZNAME:EST
DTSTART:20261101T060000
END:STANDARD
BEGIN:DAYLIGHT
TZOFFSETFROM:-0500
TZOFFSETTO:-0400
TZNAME:EDT
DTSTART:20270314T070000
END:DAYLIGHT
BEGIN:STANDARD
TZOFFSETFROM:-0400
TZOFFSETTO:-0500
TZNAME:EST
DTSTART:20271107T060000
END:STANDARD
END:VTIMEZONE
BEGIN:VEVENT
DTSTART;TZID=America/New_York:20260905T080000
DTEND;TZID=America/New_York:20260906T200000
DTSTAMP:20260421T003816
CREATED:20250516T165453Z
LAST-MODIFIED:20260307T163617Z
UID:362-1788595200-1788724800@ohioshorthorns.org
SUMMARY:RC Show Cattle Early Bird Sale
DESCRIPTION:
URL:https://ohioshorthorns.org/event/rc-show-cattle-early-bird-sale/
LOCATION:SC Online Sales
CATEGORIES:Sale
ATTACH;FMTTYPE=image/jpeg:https://ohioshorthorns.org/wp-content/uploads/2025/05/rc-1.jpg
ORGANIZER;CN="RC Show Cattle":MAILTO:rcshowcattle1@gmail.com
END:VEVENT
BEGIN:VEVENT
DTSTART;VALUE=DATE:20261003
DTEND;VALUE=DATE:20261004
DTSTAMP:20260421T003816
CREATED:20250516T170320Z
LAST-MODIFIED:20260307T162429Z
UID:369-1790985600-1791071999@ohioshorthorns.org
SUMMARY:21st Annual Where Great Females Make a Difference Sale
DESCRIPTION:
URL:https://ohioshorthorns.org/event/20th-annual-where-great-females-make-a-difference-sale/
LOCATION:Greenhorn Cattle Company\, 3450 Middle Run Road\, Waynesville\, OH\, 45068\, United States
CATEGORIES:Sale
ATTACH;FMTTYPE=image/jpeg:https://ohioshorthorns.org/wp-content/uploads/2025/05/Greenhorn.jpg
ORGANIZER;CN="Greenhorn Cattle Company":MAILTO:josh.greenhorn1@yahoo.com
END:VEVENT
BEGIN:VEVENT
DTSTART;VALUE=DATE:20261011
DTEND;VALUE=DATE:20261012
DTSTAMP:20260421T003816
CREATED:20250427T131822Z
LAST-MODIFIED:20260307T162052Z
UID:77-1791676800-1791763199@ohioshorthorns.org
SUMMARY:Fall Showcase Online Sale
DESCRIPTION:
URL:https://ohioshorthorns.org/event/fall-showcase-sale/
LOCATION:AMS Online Sales
CATEGORIES:Sale
ATTACH;FMTTYPE=image/jpeg:https://ohioshorthorns.org/wp-content/uploads/2025/04/Fall-Showcase-Web.jpg
END:VEVENT
BEGIN:VEVENT
DTSTART;TZID=America/New_York:20261019T080000
DTEND;TZID=America/New_York:20261019T170000
DTSTAMP:20260421T003816
CREATED:20260307T171148Z
LAST-MODIFIED:20260307T171148Z
UID:648-1792396800-1792429200@ohioshorthorns.org
SUMMARY:Pasture With a Purpose Female Sale
DESCRIPTION:Open House – October 17-18
URL:https://ohioshorthorns.org/event/pasture-with-a-purpose-female-sale/
LOCATION:PA
CATEGORIES:Sale
ATTACH;FMTTYPE=image/jpeg:https://ohioshorthorns.org/wp-content/uploads/2025/05/Brennstuhl.jpg
END:VEVENT
BEGIN:VEVENT
DTSTART;TZID=America/New_York:20261025T130000
DTEND;TZID=America/New_York:20261025T170000
DTSTAMP:20260421T003816
CREATED:20250516T175340Z
LAST-MODIFIED:20260307T165857Z
UID:393-1792933200-1792947600@ohioshorthorns.org
SUMMARY:Legends of the Fall
DESCRIPTION:Dinner Served at 11 AM
URL:https://ohioshorthorns.org/event/legends-of-the-fall/
LOCATION:Jacktown Fairgrounds\, 440 W Roy Furman Hwy\, Wind Ridge\, PA\, United States
CATEGORIES:Sale
ATTACH;FMTTYPE=image/jpeg:https://ohioshorthorns.org/wp-content/uploads/2025/05/Legends-of-the-Fall_Sale-Logo.jpg
ORGANIZER;CN="Six's Shorthorns":MAILTO:sixsshorthorns@gmail.com
END:VEVENT
BEGIN:VEVENT
DTSTART;VALUE=DATE:20261027
DTEND;VALUE=DATE:20261028
DTSTAMP:20260421T003816
CREATED:20250516T165658Z
LAST-MODIFIED:20260307T163543Z
UID:367-1793059200-1793145599@ohioshorthorns.org
SUMMARY:RC & Friends Spooktacular
DESCRIPTION:
URL:https://ohioshorthorns.org/event/rc-friends-spooktacular/
LOCATION:SC Online Sales
CATEGORIES:Sale
ATTACH;FMTTYPE=image/jpeg:https://ohioshorthorns.org/wp-content/uploads/2025/05/rc-1.jpg
ORGANIZER;CN="RC Show Cattle":MAILTO:rcshowcattle1@gmail.com
END:VEVENT
BEGIN:VEVENT
DTSTART;VALUE=DATE:20261212
DTEND;VALUE=DATE:20261213
DTSTAMP:20260421T003816
CREATED:20250426T182613Z
LAST-MODIFIED:20260307T161217Z
UID:63-1797033600-1797119999@ohioshorthorns.org
SUMMARY:The Maternal Event
DESCRIPTION:
URL:https://ohioshorthorns.org/event/the-maternal-event/
LOCATION:Paint Valley Farms\, 10550 Twp Rd 262\, Millersburg\, OH\, 44654\, United States
CATEGORIES:Sale
ATTACH;FMTTYPE=image/jpeg:https://ohioshorthorns.org/wp-content/uploads/2026/03/26-PVF-Ohio-Directory-high.jpg
END:VEVENT
END:VCALENDAR